BEGIN:VCALENDAR
VERSION:2.0
PRODID:-//WatchBJJ//Events//EN
CALSCALE:GREGORIAN
METHOD:PUBLISH
X-WR-CALNAME:WatchBJJ Events
X-WR-CALDESC:Upcoming BJJ events from WatchBJJ.com
REFRESH-INTERVAL;VALUE=DURATION:P1D
BEGIN:VEVENT
DTSTART;VALUE=DATE:20260424
DTEND;VALUE=DATE:20260504
DTSTAMP:20260422T190203Z
UID:ibjjf-brazilian-nationals-2026@watchbjj.live
SUMMARY:IBJJF Brazilian Nationals 2026 (Campeonato Brasileiro)
DESCRIPTION:9:00 AM BRT on YouTube\nFree\n\nOne of the most prestigious tournaments on the IBJJF calendar. Held in São Paulo\, the Campeonato Brasileiro draws the deepest Brazilian talent across all belt levels. IBJJF streams a free live preview on their YouTube channel\, with full multi-mat coverage available on FloGrappling.\n\nWatch: https://www.youtube.com/@ibjjf
URL:https://www.youtube.com/@ibjjf
CATEGORIES:Free,YouTube
STATUS:CONFIRMED
END:VEVENT
BEGIN:VEVENT
DTSTART;VALUE=DATE:20260425
DTEND;VALUE=DATE:20260426
DTSTAMP:20260422T190203Z
UID:fight-to-win-312@watchbjj.live
SUMMARY:Fight to Win 312
DESCRIPTION:7:00 PM MST on FloGrappling\nFloGrappling subscription ($29.99/mo)\n\nFight to Win brings pro-level grappling to Tucson\, Arizona. F2W events feature elite grapplers competing in both gi and no-gi in a professional\, fan-friendly environment. High-level matchups across weight classes.\n\nWatch: https://www.flograppling.com
URL:https://www.flograppling.com
CATEGORIES:Paid,FloGrappling
STATUS:CONFIRMED
END:VEVENT
BEGIN:VEVENT
DTSTART;VALUE=DATE:20260425
DTEND;VALUE=DATE:20260426
DTSTAMP:20260422T190203Z
UID:one-friday-fights-2026@watchbjj.live
SUMMARY:ONE Friday Fights (Weekly Series)
DESCRIPTION:7:30 AM ET on YouTube\nFree\n\nONE Championship streams the ONE Friday Fights series live and free on YouTube every Friday from Lumpinee Stadium in Bangkok. The weekly shows mix Muay Thai and MMA with regular submission grappling championship bouts — including ONE's world-class grappling division featuring stars like Tye Ruotolo. Nearly 50 episodes planned for 2026.\n\nWatch: https://www.youtube.com/@ONEChampionship
URL:https://www.youtube.com/@ONEChampionship
CATEGORIES:Free,YouTube
STATUS:CONFIRMED
END:VEVENT
BEGIN:VEVENT
DTSTART;VALUE=DATE:20260502
DTEND;VALUE=DATE:20260503
DTSTAMP:20260422T190203Z
UID:fight-to-win-313@watchbjj.live
SUMMARY:Fight to Win 313
DESCRIPTION:7:00 PM MST on FloGrappling\nFloGrappling subscription ($29.99/mo)\n\nFight to Win heads to Phoenix\, Arizona for another night of professional grappling. F2W consistently books exciting matchups in gi and no-gi across all weight classes\, streamed live on FloGrappling.\n\nWatch: https://www.flograppling.com
URL:https://www.flograppling.com
CATEGORIES:Paid,FloGrappling
STATUS:CONFIRMED
END:VEVENT
BEGIN:VEVENT
DTSTART;VALUE=DATE:20260508
DTEND;VALUE=DATE:20260509
DTSTAMP:20260422T190203Z
UID:fight-to-win-314@watchbjj.live
SUMMARY:Fight to Win 314
DESCRIPTION:7:00 PM PT on FloGrappling\nFloGrappling subscription ($29.99/mo)\n\nFight to Win comes to Las Vegas for a stacked night of professional grappling. Both gi and no-gi matches across all weight classes with elite competitors. Streamed live on FloGrappling.\n\nWatch: https://www.flograppling.com
URL:https://www.flograppling.com
CATEGORIES:Paid,FloGrappling
STATUS:CONFIRMED
END:VEVENT
BEGIN:VEVENT
DTSTART;VALUE=DATE:20260515
DTEND;VALUE=DATE:20260516
DTSTAMP:20260422T190203Z
UID:fight-to-win-315@watchbjj.live
SUMMARY:Fight to Win 315
DESCRIPTION:7:00 PM PT on FloGrappling\nFloGrappling subscription ($29.99/mo)\n\nFight to Win brings professional grappling to Los Angeles. One of the biggest BJJ markets in the world\, the LA edition of F2W typically draws big names and exciting matchups in both gi and no-gi.\n\nWatch: https://www.flograppling.com
URL:https://www.flograppling.com
CATEGORIES:Paid,FloGrappling
STATUS:CONFIRMED
END:VEVENT
BEGIN:VEVENT
DTSTART;VALUE=DATE:20260521
DTEND;VALUE=DATE:20260522
DTSTAMP:20260422T190203Z
UID:ufc-bjj-8@watchbjj.live
SUMMARY:UFC BJJ 8: Musumeci vs. Dantzler
DESCRIPTION:8:00 PM ET on YouTube\nFree\n\nThe UFC's dedicated BJJ promotion returns with a five-fight card headlined by pound-for-pound great Mikey Musumeci defending his title against Kevin Dantzler. UFC BJJ events are completely free on YouTube and feature some of the best BJJ athletes in the world competing under submission-only rules at the UFC's Meta APEX in Las Vegas.\n\nWatch: https://www.youtube.com/@ufcbjjofficial
URL:https://www.youtube.com/@ufcbjjofficial
CATEGORIES:Free,YouTube
STATUS:CONFIRMED
END:VEVENT
BEGIN:VEVENT
DTSTART;VALUE=DATE:20260528
DTEND;VALUE=DATE:20260601
DTSTAMP:20260422T190203Z
UID:ibjjf-world-championship-2026@watchbjj.live
SUMMARY:IBJJF World Jiu-Jitsu Championship 2026
DESCRIPTION:9:00 AM PT on YouTube\nFree\n\nThe most prestigious gi tournament in Brazilian Jiu-Jitsu\, held at the Long Beach Convention Center in California. IBJJF streams a free live preview on their YouTube channel\, giving fans access to the black belt action. Full multi-mat coverage across all divisions and belt levels is available on FloGrappling.\n\nWatch: https://www.youtube.com/@ibjjf
URL:https://www.youtube.com/@ibjjf
CATEGORIES:Free,YouTube
STATUS:CONFIRMED
END:VEVENT
BEGIN:VEVENT
DTSTART;VALUE=DATE:20260606
DTEND;VALUE=DATE:20260607
DTSTAMP:20260422T190203Z
UID:fight-to-win-316@watchbjj.live
SUMMARY:Fight to Win 316
DESCRIPTION:7:00 PM PT on FloGrappling\nFloGrappling subscription ($29.99/mo)\n\nFight to Win brings pro-level grappling to Seattle\, Washington. Featuring elite competitors in gi and no-gi matchups across all weight classes\, streamed live on FloGrappling.\n\nWatch: https://www.flograppling.com
URL:https://www.flograppling.com
CATEGORIES:Paid,FloGrappling
STATUS:CONFIRMED
END:VEVENT
BEGIN:VEVENT
DTSTART;VALUE=DATE:20260613
DTEND;VALUE=DATE:20260614
DTSTAMP:20260422T190203Z
UID:fight-to-win-317@watchbjj.live
SUMMARY:Fight to Win 317
DESCRIPTION:7:00 PM PT on FloGrappling\nFloGrappling subscription ($29.99/mo)\n\nFight to Win heads to Portland\, Oregon for another night of professional grappling action. Both gi and no-gi matches streamed live on FloGrappling.\n\nWatch: https://www.flograppling.com
URL:https://www.flograppling.com
CATEGORIES:Paid,FloGrappling
STATUS:CONFIRMED
END:VEVENT
BEGIN:VEVENT
DTSTART;VALUE=DATE:20260620
DTEND;VALUE=DATE:20260621
DTSTAMP:20260422T190203Z
UID:grapplefest-june-2026@watchbjj.live
SUMMARY:GrappleFest — June 2026
DESCRIPTION:3:00 PM BST on FloGrappling\nFloGrappling subscription ($29.99/mo)\n\nGrappleFest is one of Europe's premier submission grappling events\, now streaming exclusively on FloGrappling. The June 2026 edition is also GrappleFest's first event as the official European ADCC superfight show\, making it a must-watch in the lead-up to ADCC Worlds in Kraków.\n\nWatch: https://www.flograppling.com
URL:https://www.flograppling.com
CATEGORIES:Paid,FloGrappling
STATUS:CONFIRMED
END:VEVENT
BEGIN:VEVENT
DTSTART;VALUE=DATE:20260912
DTEND;VALUE=DATE:20260914
DTSTAMP:20260422T190203Z
UID:adcc-world-championships-2026@watchbjj.live
SUMMARY:ADCC World Championships 2026
DESCRIPTION:10:00 AM CEST on FloGrappling\nFloGrappling subscription ($29.99/mo)\n\nThe biggest submission grappling event in the world. The ADCC World Championships bring together the absolute best grapplers on the planet at the TAURON Arena in Kraków\, Poland. Held every two years\, this is the event every serious grappling fan circles on their calendar. Submission-only with modified points rules across all weight classes.\n\nWatch: https://www.flograppling.com
URL:https://www.flograppling.com
CATEGORIES:Paid,FloGrappling
STATUS:CONFIRMED
END:VEVENT
END:VCALENDAR